BEGIN:VCALENDAR
VERSION:2.0
PRODID:-//DP Pro Event Calendar//3.2.3//EN
BEGIN:VEVENT
UID:65e1040c-0f37-4f06-adc2-8bcfdeabdee0
DTSTART;TZID=UTC;VALUE=DATE:20220923
DTEND;TZID=UTC;VALUE=DATE:20220924
DTSTAMP:20220905T214506Z
SUMMARY:Openingsweekend Pacha Mama
DESCRIPTION:\n Open huis Pacha Mama&nbsp\;23 t/m 25 september&nbsp\;\n \n \n \n Heel graag laten we je de plek zien van waaruit wij nu ons zielenwerk gaan brengen. Hier wonen we samen met Claasje Kos (eigenaar en oprichter van Pacha Mama)\, Sarah &amp\; Stephan\, Monique\, Koert en Linn. Vind je het leuk om een kijkje te komen nemen? Natuurlijk ben je hier altijd welkom\, maar in het laatste weekend van september openen we ‘officieel’ onze deur. Geen idee of we alles dan al hebben uitgepakt (vermoedelijk staat hier en daar nog een doos)\, maar we leiden je graag rond op onze mooie\, nieuwe\, inspirerende plek!\n \n \n \n Naast de adem-\, yin &amp\; dans-momenten in dit weekend\, ontvangen we je graag op deze momenten:\n \n \n \n VrijdagTussen 14.00u - 15.00uTussen 17.00u - 18.00uWil je daarna een óverheerlijke&nbsp\;zelfgemaakte pizza van Pacha Mama’s Home Chef Koert&nbsp\;mee-eten? Laat het ons dan vooraf - via mail of app - weten en neem €10\,- mee!\n \n \n \n ZaterdagTussen 14.00u - 15.00u(’s Avonds Ecstatic Dance)\n \n \n \n ZondagTussen 14.00u - 15.00uTussen 17.00u - 18.00uWil je op zondag blijven om samen een hapje te eten? We doen dat deze avond ‘Potluck-style’. Het idee daarvan is dat je voor 4 personen een gerechtje meeneemt en dan delen we al het eten met elkaar. Blijf je eten\, laat het alsjeblieft wel even weten via een mailtje/app! En houd je van een wijntje of een biertje\; neem het dan graag voor jezelf mee\, want wij schenken thee!\n 
LOCATION:Mearsterpaed 8
URL:www.centrumpachamama.com 
ATTACH;FMTTYPE=image/jpeg:https://mikamarieke.nl/wp-content/uploads/2022/09/Pacha-mama-drieluik-1024x312.jpg
END:VEVENT
END:VCALENDAR